BEGIN:VCALENDAR
VERSION:2.0
PRODID:-//Belleau Wood News - ECPv6.15.20//NONSGML v1.0//EN
CALSCALE:GREGORIAN
METHOD:PUBLISH
X-ORIGINAL-URL:https://belleauwoodnews.com
X-WR-CALDESC:Events for Belleau Wood News
REFRESH-INTERVAL;VALUE=DURATION:PT1H
X-Robots-Tag:noindex
X-PUBLISHED-TTL:PT1H
BEGIN:VTIMEZONE
TZID:America/New_York
BEGIN:DAYLIGHT
TZOFFSETFROM:-0500
TZOFFSETTO:-0400
TZNAME:EDT
DTSTART:20230312T070000
END:DAYLIGHT
BEGIN:STANDARD
TZOFFSETFROM:-0400
TZOFFSETTO:-0500
TZNAME:EST
DTSTART:20231105T060000
END:STANDARD
BEGIN:DAYLIGHT
TZOFFSETFROM:-0500
TZOFFSETTO:-0400
TZNAME:EDT
DTSTART:20240310T070000
END:DAYLIGHT
BEGIN:STANDARD
TZOFFSETFROM:-0400
TZOFFSETTO:-0500
TZNAME:EST
DTSTART:20241103T060000
END:STANDARD
BEGIN:DAYLIGHT
TZOFFSETFROM:-0500
TZOFFSETTO:-0400
TZNAME:EDT
DTSTART:20250309T070000
END:DAYLIGHT
BEGIN:STANDARD
TZOFFSETFROM:-0400
TZOFFSETTO:-0500
TZNAME:EST
DTSTART:20251102T060000
END:STANDARD
END:VTIMEZONE
BEGIN:VEVENT
DTSTART;TZID=America/New_York:20240525T173000
DTEND;TZID=America/New_York:20240525T190000
DTSTAMP:20260423T192918
CREATED:20240506T000814Z
LAST-MODIFIED:20240506T000814Z
UID:2146-1716658200-1716663600@belleauwoodnews.com
SUMMARY:Fizzy Fox Soda Truck
DESCRIPTION:Talk about interesting!  A new soda truck in Lexington!
URL:https://belleauwoodnews.com/event/fizzy-fox-soda-truck/
LOCATION:Belleau Woods Park\, 3750 forest green drive\, lexington\, KY\, 40517\, United States
END:VEVENT
BEGIN:VEVENT
DTSTART;TZID=America/New_York:20240524T170000
DTEND;TZID=America/New_York:20240524T190000
DTSTAMP:20260423T192918
CREATED:20240429T010600Z
LAST-MODIFIED:20240429T010600Z
UID:2080-1716570000-1716577200@belleauwoodnews.com
SUMMARY:Friday Food Truck-Matt's Hot Dog Stand
DESCRIPTION:More than just hot dogs!  Great food!
URL:https://belleauwoodnews.com/event/friday-food-truck-matts-hot-dog-stand/
LOCATION:Belleau Woods Park\, 3750 forest green drive\, lexington\, KY\, 40517\, United States
END:VEVENT
BEGIN:VEVENT
DTSTART;TZID=America/New_York:20240518T170000
DTEND;TZID=America/New_York:20240518T190000
DTSTAMP:20260423T192918
CREATED:20240429T005808Z
LAST-MODIFIED:20240429T005808Z
UID:2077-1716051600-1716058800@belleauwoodnews.com
SUMMARY:Saturday Food Truck-What's Crackin'
DESCRIPTION:A new food truck to Belleau Wood!
URL:https://belleauwoodnews.com/event/saturday-food-truck-whats-crackin/
LOCATION:Belleau Woods Park\, 3750 forest green drive\, lexington\, KY\, 40517\, United States
END:VEVENT
BEGIN:VEVENT
DTSTART;TZID=America/New_York:20240517T170000
DTEND;TZID=America/New_York:20240517T190000
DTSTAMP:20260423T192918
CREATED:20240429T005437Z
LAST-MODIFIED:20240429T005437Z
UID:2075-1715965200-1715972400@belleauwoodnews.com
SUMMARY:Friday Food Truck-Mel's Burger Shack
DESCRIPTION:A new food truck for Belleau Wood.
URL:https://belleauwoodnews.com/event/friday-food-truck-mels-burger-shack/
LOCATION:Belleau Woods Park\, 3750 forest green drive\, lexington\, KY\, 40517\, United States
END:VEVENT
BEGIN:VEVENT
DTSTART;TZID=America/New_York:20240511T170000
DTEND;TZID=America/New_York:20240511T190000
DTSTAMP:20260423T192918
CREATED:20240429T005332Z
LAST-MODIFIED:20240429T005332Z
UID:2073-1715446800-1715454000@belleauwoodnews.com
SUMMARY:Saturday Food Truck-Daughter's Southern
DESCRIPTION:Great Food-Come by and check it out.
URL:https://belleauwoodnews.com/event/saturday-food-truck-daughters-southern/
LOCATION:Belleau Woods Park\, 3750 forest green drive\, lexington\, KY\, 40517\, United States
END:VEVENT
BEGIN:VEVENT
DTSTART;TZID=America/New_York:20240510T170000
DTEND;TZID=America/New_York:20240510T200000
DTSTAMP:20260423T192918
CREATED:20240429T005201Z
LAST-MODIFIED:20240429T005201Z
UID:2070-1715360400-1715371200@belleauwoodnews.com
SUMMARY:Friday Food Truck-757 Dawg Pound
DESCRIPTION:A new food truck this year!  Come by and check it out!
URL:https://belleauwoodnews.com/event/friday-food-truck-757-dawg-pound/
LOCATION:Belleau Woods Park\, 3750 forest green drive\, lexington\, KY\, 40517\, United States
END:VEVENT
END:VCALENDAR