BEGIN:VCALENDAR
VERSION:2.0
PRODID:-//Belleau Wood News - ECPv6.15.20//NONSGML v1.0//EN
CALSCALE:GREGORIAN
METHOD:PUBLISH
X-ORIGINAL-URL:https://belleauwoodnews.com
X-WR-CALDESC:Events for Belleau Wood News
REFRESH-INTERVAL;VALUE=DURATION:PT1H
X-Robots-Tag:noindex
X-PUBLISHED-TTL:PT1H
BEGIN:VTIMEZONE
TZID:America/New_York
BEGIN:DAYLIGHT
TZOFFSETFROM:-0500
TZOFFSETTO:-0400
TZNAME:EDT
DTSTART:20240310T070000
END:DAYLIGHT
BEGIN:STANDARD
TZOFFSETFROM:-0400
TZOFFSETTO:-0500
TZNAME:EST
DTSTART:20241103T060000
END:STANDARD
BEGIN:DAYLIGHT
TZOFFSETFROM:-0500
TZOFFSETTO:-0400
TZNAME:EDT
DTSTART:20250309T070000
END:DAYLIGHT
BEGIN:STANDARD
TZOFFSETFROM:-0400
TZOFFSETTO:-0500
TZNAME:EST
DTSTART:20251102T060000
END:STANDARD
BEGIN:DAYLIGHT
TZOFFSETFROM:-0500
TZOFFSETTO:-0400
TZNAME:EDT
DTSTART:20260308T070000
END:DAYLIGHT
BEGIN:STANDARD
TZOFFSETFROM:-0400
TZOFFSETTO:-0500
TZNAME:EST
DTSTART:20261101T060000
END:STANDARD
BEGIN:DAYLIGHT
TZOFFSETFROM:-0500
TZOFFSETTO:-0400
TZNAME:EDT
DTSTART:20270314T070000
END:DAYLIGHT
BEGIN:STANDARD
TZOFFSETFROM:-0400
TZOFFSETTO:-0500
TZNAME:EST
DTSTART:20271107T060000
END:STANDARD
END:VTIMEZONE
BEGIN:VEVENT
DTSTART;TZID=America/New_York:20250830T170000
DTEND;TZID=America/New_York:20250830T190000
DTSTAMP:20260425T081031
CREATED:20250305T172102Z
LAST-MODIFIED:20250305T172102Z
UID:2389-1756573200-1756580400@belleauwoodnews.com
SUMMARY:Food Truck- Rise Up Pizza
DESCRIPTION:Order ahead on google sheet \nMore details coming soon!
URL:https://belleauwoodnews.com/event/food-truck-rise-up-pizza-2/
LOCATION:Belleau Woods Park\, 3750 forest green drive\, lexington\, KY\, 40517\, United States
END:VEVENT
BEGIN:VEVENT
DTSTART;TZID=America/New_York:20251011T080000
DTEND;TZID=America/New_York:20251011T150000
DTSTAMP:20260425T081031
CREATED:20250126T201032Z
LAST-MODIFIED:20250126T201032Z
UID:2349-1760169600-1760194800@belleauwoodnews.com
SUMMARY:Belleau Wood Neighborhood Yard Sale
DESCRIPTION:
URL:https://belleauwoodnews.com/event/belleau-wood-neighborhood-yard-sale-2/
LOCATION:Belleau Wood Neighborhood
END:VEVENT
BEGIN:VEVENT
DTSTART;TZID=America/New_York:20251012T140000
DTEND;TZID=America/New_York:20251012T150000
DTSTAMP:20260425T081031
CREATED:20250825T010124Z
LAST-MODIFIED:20250825T010304Z
UID:2509-1760277600-1760281200@belleauwoodnews.com
SUMMARY:Fall Park Clean Up
DESCRIPTION:Join us October 12th at 2:00m for a neighborhood clean up. We will meet near the playground. The focus will be on the grassy areas around the park and neighborhood entrances (not in the creek)\, so come in good walking shoes. We hope to see you there!
URL:https://belleauwoodnews.com/event/fall-park-clean-up/
LOCATION:KY
END:VEVENT
BEGIN:VEVENT
DTSTART;TZID=America/New_York:20260411T170000
DTEND;TZID=America/New_York:20260411T190000
DTSTAMP:20260425T081031
CREATED:20260213T015208Z
LAST-MODIFIED:20260213T015208Z
UID:2563-1775926800-1775934000@belleauwoodnews.com
SUMMARY:Food Truck-Katie's Happy Hot Dogs and Cloud Candy Dirty Sodas and Cotton Candy
DESCRIPTION:
URL:https://belleauwoodnews.com/event/food-truck-katies-happy-hot-dogs-and-cloud-candy-dirty-sodas-and-cotton-candy/
LOCATION:KY
END:VEVENT
BEGIN:VEVENT
DTSTART;TZID=America/New_York:20260418T090000
DTEND;TZID=America/New_York:20260418T120000
DTSTAMP:20260425T081031
CREATED:20260213T021445Z
LAST-MODIFIED:20260213T021445Z
UID:2600-1776502800-1776513600@belleauwoodnews.com
SUMMARY:Belleau Wood Spring Neighborhood Clean-up (Hickman Creek)
DESCRIPTION:
URL:https://belleauwoodnews.com/event/belleau-wood-spring-neighborhood-clean-up-hickman-creek/
LOCATION:KY
END:VEVENT
BEGIN:VEVENT
DTSTART;TZID=America/New_York:20260418T170000
DTEND;TZID=America/New_York:20260418T190000
DTSTAMP:20260425T081031
CREATED:20260213T015311Z
LAST-MODIFIED:20260213T015311Z
UID:2565-1776531600-1776538800@belleauwoodnews.com
SUMMARY:Food Truck-Flippin Jacks
DESCRIPTION:
URL:https://belleauwoodnews.com/event/food-truck-flippin-jacks/
LOCATION:KY
END:VEVENT
BEGIN:VEVENT
DTSTART;TZID=America/New_York:20260425T080000
DTEND;TZID=America/New_York:20260425T150000
DTSTAMP:20260425T081031
CREATED:20260213T021744Z
LAST-MODIFIED:20260213T021744Z
UID:2605-1777104000-1777129200@belleauwoodnews.com
SUMMARY:Belleau Wood Spring Neighborhood Yard Sale
DESCRIPTION:
URL:https://belleauwoodnews.com/event/belleau-wood-spring-neighborhood-yard-sale/
LOCATION:KY
END:VEVENT
BEGIN:VEVENT
DTSTART;TZID=America/New_York:20260502T170000
DTEND;TZID=America/New_York:20260502T200000
DTSTAMP:20260425T081031
CREATED:20260213T015517Z
LAST-MODIFIED:20260213T015517Z
UID:2569-1777741200-1777752000@belleauwoodnews.com
SUMMARY:Food Truck-Porterhouse BBQ (Kentucky Q)
DESCRIPTION:
URL:https://belleauwoodnews.com/event/food-truck-porterhouse-bbq-kentucky-q/
LOCATION:KY
END:VEVENT
BEGIN:VEVENT
DTSTART;TZID=America/New_York:20260516T190000
DTEND;TZID=America/New_York:20260516T200000
DTSTAMP:20260425T081031
CREATED:20260318T220427Z
LAST-MODIFIED:20260318T220427Z
UID:2621-1778958000-1778961600@belleauwoodnews.com
SUMMARY:Belleau Wood Neighborhood Ice Cream Social with Mr. Softee
DESCRIPTION:Bring a lawn chair and enjoy some great Ice Cream from one of Belleau Wood’s favorites!
URL:https://belleauwoodnews.com/event/belleau-wood-neighborhood-ice-cream-social-with-mr-softee/
LOCATION:Belleau Woods Park\, 3750 forest green drive\, lexington\, KY\, 40517\, United States
END:VEVENT
BEGIN:VEVENT
DTSTART;TZID=America/New_York:20260523T170000
DTEND;TZID=America/New_York:20260523T200000
DTSTAMP:20260425T081031
CREATED:20260223T021407Z
LAST-MODIFIED:20260223T021407Z
UID:2612-1779555600-1779566400@belleauwoodnews.com
SUMMARY:Food Truck-Bocadito Latino
DESCRIPTION:
URL:https://belleauwoodnews.com/event/food-truck-bocadito-latino/
LOCATION:KY
END:VEVENT
BEGIN:VEVENT
DTSTART;TZID=America/New_York:20260530T170000
DTEND;TZID=America/New_York:20260530T200000
DTSTAMP:20260425T081031
CREATED:20260213T020006Z
LAST-MODIFIED:20260213T020006Z
UID:2575-1780160400-1780171200@belleauwoodnews.com
SUMMARY:Food Truck-Jesse's Slooo Good BBQ
DESCRIPTION:
URL:https://belleauwoodnews.com/event/food-truck-jesses-slooo-good-bbq/
LOCATION:KY
END:VEVENT
BEGIN:VEVENT
DTSTART;TZID=America/New_York:20260613T180000
DTEND;TZID=America/New_York:20260613T200000
DTSTAMP:20260425T081031
CREATED:20260213T020230Z
LAST-MODIFIED:20260213T020230Z
UID:2577-1781373600-1781380800@belleauwoodnews.com
SUMMARY:Food Truck-K&K Tropical Paradise (Italian Ice)
DESCRIPTION:
URL:https://belleauwoodnews.com/event/food-truck-kk-tropical-paradise-italian-ice/
LOCATION:KY
END:VEVENT
BEGIN:VEVENT
DTSTART;TZID=America/New_York:20260620T160000
DTEND;TZID=America/New_York:20260620T190000
DTSTAMP:20260425T081031
CREATED:20260213T020308Z
LAST-MODIFIED:20260213T020308Z
UID:2579-1781971200-1781982000@belleauwoodnews.com
SUMMARY:Food Truck-What's Crackin
DESCRIPTION:
URL:https://belleauwoodnews.com/event/food-truck-whats-crackin-5/
LOCATION:KY
END:VEVENT
BEGIN:VEVENT
DTSTART;TZID=America/New_York:20260627T170000
DTEND;TZID=America/New_York:20260627T190000
DTSTAMP:20260425T081031
CREATED:20260213T020352Z
LAST-MODIFIED:20260213T020352Z
UID:2581-1782579600-1782586800@belleauwoodnews.com
SUMMARY:Food Truck-Flippin Jacks
DESCRIPTION:
URL:https://belleauwoodnews.com/event/food-truck-flippin-jacks-2/
LOCATION:KY
END:VEVENT
BEGIN:VEVENT
DTSTART;TZID=America/New_York:20260718T170000
DTEND;TZID=America/New_York:20260718T193000
DTSTAMP:20260425T081031
CREATED:20260213T020450Z
LAST-MODIFIED:20260213T020450Z
UID:2583-1784394000-1784403000@belleauwoodnews.com
SUMMARY:Food Truck-Comete Alguito (Colombian Food)
DESCRIPTION:
URL:https://belleauwoodnews.com/event/food-truck-comete-alguito-colombian-food-2/
LOCATION:KY
END:VEVENT
BEGIN:VEVENT
DTSTART;TZID=America/New_York:20260725T170000
DTEND;TZID=America/New_York:20260725T200000
DTSTAMP:20260425T081031
CREATED:20260223T021515Z
LAST-MODIFIED:20260223T021515Z
UID:2614-1784998800-1785009600@belleauwoodnews.com
SUMMARY:Food Truck-Bocadito Latino
DESCRIPTION:
URL:https://belleauwoodnews.com/event/food-truck-bocadito-latino-2/
LOCATION:KY
END:VEVENT
BEGIN:VEVENT
DTSTART;TZID=America/New_York:20260801T170000
DTEND;TZID=America/New_York:20260801T190000
DTSTAMP:20260425T081031
CREATED:20260213T020744Z
LAST-MODIFIED:20260223T021802Z
UID:2587-1785603600-1785610800@belleauwoodnews.com
SUMMARY:Belleau Wood Annual Family Fun Night- First annual Belleau Wood Duck Drop in Hickman Creek\, Katie's Happy Hot Dogs\, Bubble Party
DESCRIPTION:Katie’s Happy Hot Dogs \nBubble Party \nMusic \nFundraiser- First Annual Belleau Wood Duck Drop in Hickman Creek \n 
URL:https://belleauwoodnews.com/event/belleau-wood-annual-family-fun-night-katies-happy-hot-dogs/
LOCATION:KY
END:VEVENT
BEGIN:VEVENT
DTSTART;TZID=America/New_York:20260820T190000
DTEND;TZID=America/New_York:20260820T203000
DTSTAMP:20260425T081031
CREATED:20260213T021943Z
LAST-MODIFIED:20260213T021943Z
UID:2609-1787252400-1787257800@belleauwoodnews.com
SUMMARY:Belleau Wood Neighborhood Annual Neighborhood Meeting
DESCRIPTION:
URL:https://belleauwoodnews.com/event/belleau-wood-neighborhood-annual-neighborhood-meeting/
LOCATION:Sayre Christian Friendship Towers\, 3775 Belleau Wood Dr\, lexington\, 40517
END:VEVENT
BEGIN:VEVENT
DTSTART;TZID=America/New_York:20260822T160000
DTEND;TZID=America/New_York:20260822T190000
DTSTAMP:20260425T081031
CREATED:20260213T020840Z
LAST-MODIFIED:20260213T020840Z
UID:2589-1787414400-1787425200@belleauwoodnews.com
SUMMARY:Food Truck-What's Crackin'
DESCRIPTION:
URL:https://belleauwoodnews.com/event/food-truck-whats-crackin-6/
LOCATION:KY
END:VEVENT
BEGIN:VEVENT
DTSTART;TZID=America/New_York:20260829T170000
DTEND;TZID=America/New_York:20260829T200000
DTSTAMP:20260425T081031
CREATED:20260213T020923Z
LAST-MODIFIED:20260213T020923Z
UID:2591-1788022800-1788033600@belleauwoodnews.com
SUMMARY:Food Truck-Jesse's Slooo Good BBQ
DESCRIPTION:
URL:https://belleauwoodnews.com/event/food-truck-jesses-slooo-good-bbq-2/
LOCATION:KY
END:VEVENT
BEGIN:VEVENT
DTSTART;TZID=America/New_York:20260912T170000
DTEND;TZID=America/New_York:20260912T200000
DTSTAMP:20260425T081031
CREATED:20260213T021016Z
LAST-MODIFIED:20260213T021016Z
UID:2593-1789232400-1789243200@belleauwoodnews.com
SUMMARY:Food Truck-Porterhouse BBQ (Kentucky Q)
DESCRIPTION:
URL:https://belleauwoodnews.com/event/food-truck-porterhouse-bbq-kentucky-q-2/
LOCATION:KY
END:VEVENT
BEGIN:VEVENT
DTSTART;TZID=America/New_York:20260919T170000
DTEND;TZID=America/New_York:20260919T193000
DTSTAMP:20260425T081031
CREATED:20260213T021107Z
LAST-MODIFIED:20260213T021107Z
UID:2595-1789837200-1789846200@belleauwoodnews.com
SUMMARY:Food Truck-Comete Alguito (Colombian Food)
DESCRIPTION:
URL:https://belleauwoodnews.com/event/food-truck-comete-alguito-colombian-food-3/
LOCATION:KY
END:VEVENT
BEGIN:VEVENT
DTSTART;TZID=America/New_York:20261010T080000
DTEND;TZID=America/New_York:20261010T150000
DTSTAMP:20260425T081031
CREATED:20260213T021830Z
LAST-MODIFIED:20260213T021830Z
UID:2607-1791619200-1791644400@belleauwoodnews.com
SUMMARY:Belleau Wood Neighborhood Fall Yard Sale
DESCRIPTION:
URL:https://belleauwoodnews.com/event/belleau-wood-neighborhood-fall-yard-sale/
LOCATION:KY
END:VEVENT
BEGIN:VEVENT
DTSTART;TZID=America/New_York:20261011T140000
DTEND;TZID=America/New_York:20261011T160000
DTSTAMP:20260425T081031
CREATED:20260213T021629Z
LAST-MODIFIED:20260213T021651Z
UID:2602-1791727200-1791734400@belleauwoodnews.com
SUMMARY:Belleau Wood Neighborhood Fall Clean-up (Wilson Downing area)
DESCRIPTION:
URL:https://belleauwoodnews.com/event/belleau-wood-neighborhood-falls-clean-up-wilson-downing-area/
LOCATION:KY
END:VEVENT
END:VCALENDAR