BEGIN:VCALENDAR
VERSION:2.0
PRODID:-//Belleau Wood News - ECPv6.15.20//NONSGML v1.0//EN
CALSCALE:GREGORIAN
METHOD:PUBLISH
X-WR-CALNAME:Belleau Wood News
X-ORIGINAL-URL:https://belleauwoodnews.com
X-WR-CALDESC:Events for Belleau Wood News
REFRESH-INTERVAL;VALUE=DURATION:PT1H
X-Robots-Tag:noindex
X-PUBLISHED-TTL:PT1H
BEGIN:VTIMEZONE
TZID:America/New_York
BEGIN:DAYLIGHT
TZOFFSETFROM:-0500
TZOFFSETTO:-0400
TZNAME:EDT
DTSTART:20230312T070000
END:DAYLIGHT
BEGIN:STANDARD
TZOFFSETFROM:-0400
TZOFFSETTO:-0500
TZNAME:EST
DTSTART:20231105T060000
END:STANDARD
BEGIN:DAYLIGHT
TZOFFSETFROM:-0500
TZOFFSETTO:-0400
TZNAME:EDT
DTSTART:20240310T070000
END:DAYLIGHT
BEGIN:STANDARD
TZOFFSETFROM:-0400
TZOFFSETTO:-0500
TZNAME:EST
DTSTART:20241103T060000
END:STANDARD
BEGIN:DAYLIGHT
TZOFFSETFROM:-0500
TZOFFSETTO:-0400
TZNAME:EDT
DTSTART:20250309T070000
END:DAYLIGHT
BEGIN:STANDARD
TZOFFSETFROM:-0400
TZOFFSETTO:-0500
TZNAME:EST
DTSTART:20251102T060000
END:STANDARD
BEGIN:DAYLIGHT
TZOFFSETFROM:-0500
TZOFFSETTO:-0400
TZNAME:EDT
DTSTART:20260308T070000
END:DAYLIGHT
BEGIN:STANDARD
TZOFFSETFROM:-0400
TZOFFSETTO:-0500
TZNAME:EST
DTSTART:20261101T060000
END:STANDARD
END:VTIMEZONE
BEGIN:VEVENT
DTSTART;TZID=America/New_York:20250621T170000
DTEND;TZID=America/New_York:20250621T200000
DTSTAMP:20260423T201601
CREATED:20250305T170321Z
LAST-MODIFIED:20250305T170321Z
UID:2377-1750525200-1750536000@belleauwoodnews.com
SUMMARY:Food Truck-Comete Alguito Colombian Street Food
DESCRIPTION:
URL:https://belleauwoodnews.com/event/food-truck-comete-alguito-colombian-street-food/
LOCATION:Belleau Woods Park\, 3750 forest green drive\, lexington\, KY\, 40517\, United States
END:VEVENT
BEGIN:VEVENT
DTSTART;TZID=America/New_York:20250606T180000
DTEND;TZID=America/New_York:20250606T200000
DTSTAMP:20260423T201601
CREATED:20250428T021226Z
LAST-MODIFIED:20250428T021226Z
UID:2402-1749232800-1749240000@belleauwoodnews.com
SUMMARY:Belleau Wood Ice Cream Social with Mr. Softee Ice Cream Truck
DESCRIPTION:Come down to the park and enjoy some great ice cream from the Mr. Softee Truck! \nBring a chair and enjoy meeting your neighbors \nThis event is always a neighborhood favorite!
URL:https://belleauwoodnews.com/event/belleau-wood-ice-cream-social-with-mr-softee-ice-cream-truck/
LOCATION:Belleau Woods Park\, 3750 forest green drive\, lexington\, KY\, 40517\, United States
END:VEVENT
BEGIN:VEVENT
DTSTART;TZID=America/New_York:20250524T170000
DTEND;TZID=America/New_York:20250524T190000
DTSTAMP:20260423T201601
CREATED:20250305T165555Z
LAST-MODIFIED:20250305T165555Z
UID:2375-1748106000-1748113200@belleauwoodnews.com
SUMMARY:Food Truck-Rise up Pizza
DESCRIPTION:Google Form ordering is recommended due to cook time
URL:https://belleauwoodnews.com/event/food-truck-rise-up-pizza/
LOCATION:Belleau Woods Park\, 3750 forest green drive\, lexington\, KY\, 40517\, United States
END:VEVENT
BEGIN:VEVENT
DTSTART;TZID=America/New_York:20250517T170000
DTEND;TZID=America/New_York:20250517T190000
DTSTAMP:20260423T201601
CREATED:20250305T164112Z
LAST-MODIFIED:20250305T164112Z
UID:2372-1747501200-1747508400@belleauwoodnews.com
SUMMARY:Food Truck-What's Crackin
DESCRIPTION:
URL:https://belleauwoodnews.com/event/food-truck-whats-crackin-2/
LOCATION:Belleau Woods Park\, 3750 forest green drive\, lexington\, KY\, 40517\, United States
END:VEVENT
BEGIN:VEVENT
DTSTART;TZID=America/New_York:20250510T090000
DTEND;TZID=America/New_York:20250510T120000
DTSTAMP:20260423T201601
CREATED:20250322T161115Z
LAST-MODIFIED:20250322T161115Z
UID:2396-1746867600-1746878400@belleauwoodnews.com
SUMMARY:Belleau Wood Neighborhood/Park/Creek Clean-up
DESCRIPTION:We need volunteers!  It’s amazing how much litter we accumulate in our neighborhood. With the large amount of rain this season the creek is overflowing with trash and several large items (grocery carts).  Would you be willing to donate a few hours of your time to help make our neighborhood look sharp? \nFree t-shirt for all volunteers \nMore details coming soon!
URL:https://belleauwoodnews.com/event/belleau-wood-neighborhood-park-creek-clean-up/
LOCATION:Belleau Woods Park\, 3750 forest green drive\, lexington\, KY\, 40517\, United States
END:VEVENT
BEGIN:VEVENT
DTSTART;TZID=America/New_York:20250503T170000
DTEND;TZID=America/New_York:20250503T190000
DTSTAMP:20260423T201601
CREATED:20250305T164007Z
LAST-MODIFIED:20250305T172649Z
UID:2370-1746291600-1746298800@belleauwoodnews.com
SUMMARY:Food Truck-Wings with a Twist
DESCRIPTION:Call ahead ordering available and recommended \nmore info. coming closer to event date \n  \nFlavors available  \nG20 – BBQ with a Twang \nTNT- Teriyaki BBQ Twang \nThe Goat- Bussin Buffalo \nLicky o Lemon- Lemon Pepper Twang \nSides Available \nFries \nMac and Cheese
URL:https://belleauwoodnews.com/event/food-truck-wings-with-a-twist/
LOCATION:Belleau Woods Park\, 3750 forest green drive\, lexington\, KY\, 40517\, United States
END:VEVENT
BEGIN:VEVENT
DTSTART;TZID=America/New_York:20250426T080000
DTEND;TZID=America/New_York:20250426T150000
DTSTAMP:20260423T201601
CREATED:20250126T200903Z
LAST-MODIFIED:20250126T200903Z
UID:2344-1745654400-1745679600@belleauwoodnews.com
SUMMARY:Belleau Wood Neighborhood Yard Sale
DESCRIPTION: 
URL:https://belleauwoodnews.com/event/belleau-wood-neighborhood-yard-sale/
LOCATION:Belleau Wood Neighborhood
END:VEVENT
BEGIN:VEVENT
DTSTART;TZID=America/New_York:20250419T170000
DTEND;TZID=America/New_York:20250419T190000
DTSTAMP:20260423T201601
CREATED:20250305T163046Z
LAST-MODIFIED:20250305T163046Z
UID:2364-1745082000-1745089200@belleauwoodnews.com
SUMMARY:Food Truck-What's Crackin
DESCRIPTION:
URL:https://belleauwoodnews.com/event/food-truck-whats-crackin/
LOCATION:Belleau Woods Park\, 3750 forest green drive\, lexington\, KY\, 40517\, United States
END:VEVENT
BEGIN:VEVENT
DTSTART;TZID=America/New_York:20250412T170000
DTEND;TZID=America/New_York:20250412T200000
DTSTAMP:20260423T201601
CREATED:20250305T162942Z
LAST-MODIFIED:20250305T162942Z
UID:2362-1744477200-1744488000@belleauwoodnews.com
SUMMARY:Food Truck-Comete Alguito Colombian Street Food Truck
DESCRIPTION:
URL:https://belleauwoodnews.com/event/food-truck-comete-alguito-colombian-street-food-truck/
END:VEVENT
BEGIN:VEVENT
DTSTART;TZID=America/New_York:20250329T170000
DTEND;TZID=America/New_York:20250329T190000
DTSTAMP:20260423T201601
CREATED:20250224T223630Z
LAST-MODIFIED:20250224T223630Z
UID:2353-1743267600-1743274800@belleauwoodnews.com
SUMMARY:Food Truck - Deep Fried Goodies 5-7
DESCRIPTION:
URL:https://belleauwoodnews.com/event/food-truck-deep-fried-goodies-5-7/
LOCATION:Belleau Woods Park\, 3750 forest green drive\, lexington\, KY\, 40517\, United States
END:VEVENT
BEGIN:VEVENT
DTSTART;TZID=America/New_York:20240823T190000
DTEND;TZID=America/New_York:20240823T203000
DTSTAMP:20260423T201601
CREATED:20240708T020039Z
LAST-MODIFIED:20240816T030105Z
UID:2195-1724439600-1724445000@belleauwoodnews.com
SUMMARY:Belleau Wood End of Summer Ice Cream Social with Mr. Softee-Friday
DESCRIPTION:This is the last Belleau Wood food truck of the year.  Come out and let’s have a good ole fashion Ice Cream Social! \nBring a chair \nGet some great ice cream from Mr. Softee \nHope to see you there!
URL:https://belleauwoodnews.com/event/mr-softee-friday-2/
LOCATION:Belleau Woods Park\, 3750 forest green drive\, lexington\, KY\, 40517\, United States
END:VEVENT
BEGIN:VEVENT
DTSTART;TZID=America/New_York:20240816T170000
DTEND;TZID=America/New_York:20240816T190000
DTSTAMP:20260423T201601
CREATED:20240708T015950Z
LAST-MODIFIED:20240708T015950Z
UID:2193-1723827600-1723834800@belleauwoodnews.com
SUMMARY:Matt's Hot Dog Stand-Friday
DESCRIPTION:
URL:https://belleauwoodnews.com/event/matts-hot-dog-stand-friday/
LOCATION:Belleau Woods Park\, 3750 forest green drive\, lexington\, KY\, 40517\, United States
END:VEVENT
BEGIN:VEVENT
DTSTART;TZID=America/New_York:20240815T190000
DTEND;TZID=America/New_York:20240815T203000
DTSTAMP:20260423T201601
CREATED:20240708T022048Z
LAST-MODIFIED:20240708T022048Z
UID:2198-1723748400-1723753800@belleauwoodnews.com
SUMMARY:Belleau Wood Neighborhood Association Annual Meeting-Thrusday
DESCRIPTION:The annual Belleau Wood Neighborhood meeting will be held at Sayre Christian Friendship Towers this year. \nGuest speakers: \n\nBrenda Monarrez- 4th district Councilperson will give updates on sidewalk project\, traffic/speeding issues\nCharlie Martin-Division of Water Quality will give updates on the sewer odor\nVictoria Meyer-Parks Advisory Board self sustaining park initiative which will be on our November ballot\n\n  \n 
URL:https://belleauwoodnews.com/event/belleau-wood-neighborhood-association-annual-meeting-thrusday/
LOCATION:Sayre Christian Friendship Towers\, 3775 Belleau Wood Dr\, lexington\, 40517
END:VEVENT
BEGIN:VEVENT
DTSTART;TZID=America/New_York:20240810T170000
DTEND;TZID=America/New_York:20240810T200000
DTSTAMP:20260423T201601
CREATED:20240708T015834Z
LAST-MODIFIED:20240708T015834Z
UID:2191-1723309200-1723320000@belleauwoodnews.com
SUMMARY:Comete Alguito-Colombian Food Truck-Saturday
DESCRIPTION:
URL:https://belleauwoodnews.com/event/comete-alguito-colombian-food-truck-saturday/
LOCATION:Belleau Woods Park\, 3750 forest green drive\, lexington\, KY\, 40517\, United States
END:VEVENT
BEGIN:VEVENT
DTSTART;TZID=America/New_York:20240727T170000
DTEND;TZID=America/New_York:20240727T200000
DTSTAMP:20260423T201601
CREATED:20240708T015656Z
LAST-MODIFIED:20240708T015656Z
UID:2188-1722099600-1722110400@belleauwoodnews.com
SUMMARY:Bradley's Texas Smokehouse
DESCRIPTION:A new food truck to Belleau Wood.  Menu will be on Facebook.
URL:https://belleauwoodnews.com/event/bradleys-texas-smokehouse/
LOCATION:Belleau Woods Park\, 3750 forest green drive\, lexington\, KY\, 40517\, United States
END:VEVENT
BEGIN:VEVENT
DTSTART;TZID=America/New_York:20240726T190000
DTEND;TZID=America/New_York:20240726T200000
DTSTAMP:20260423T201601
CREATED:20240708T015505Z
LAST-MODIFIED:20240708T015505Z
UID:2186-1722020400-1722024000@belleauwoodnews.com
SUMMARY:Mr. Softee-Friday
DESCRIPTION:
URL:https://belleauwoodnews.com/event/mr-softee-friday/
LOCATION:Belleau Woods Park\, 3750 forest green drive\, lexington\, KY\, 40517\, United States
END:VEVENT
BEGIN:VEVENT
DTSTART;TZID=America/New_York:20240720T170000
DTEND;TZID=America/New_York:20240720T190000
DTSTAMP:20260423T201601
CREATED:20240708T015319Z
LAST-MODIFIED:20240708T015319Z
UID:2182-1721494800-1721502000@belleauwoodnews.com
SUMMARY:Katie's Happy Hot Dogs-Saturday
DESCRIPTION:Always a favorite in Belleau Wood!
URL:https://belleauwoodnews.com/event/katies-happy-hot-dogs-saturday/
LOCATION:Belleau Woods Park\, 3750 forest green drive\, lexington\, KY\, 40517\, United States
END:VEVENT
BEGIN:VEVENT
DTSTART;TZID=America/New_York:20240712T170000
DTEND;TZID=America/New_York:20240712T190000
DTSTAMP:20260423T201601
CREATED:20240708T014909Z
LAST-MODIFIED:20240708T014909Z
UID:2178-1720803600-1720810800@belleauwoodnews.com
SUMMARY:Buddy Loves Food Truck-Friday
DESCRIPTION:Come down to Belleau Wood Park and grab a GREAT burger! \nUsual time is 5-7pm
URL:https://belleauwoodnews.com/event/buddy-loves-food-truck-friday/
LOCATION:Belleau Woods Park\, 3750 forest green drive\, lexington\, KY\, 40517\, United States
END:VEVENT
BEGIN:VEVENT
DTSTART;TZID=America/New_York:20240628T170000
DTEND;TZID=America/New_York:20240628T200000
DTSTAMP:20260423T201601
CREATED:20240602T172938Z
LAST-MODIFIED:20240602T172938Z
UID:2173-1719594000-1719604800@belleauwoodnews.com
SUMMARY:Food Truck-Comete Alguito
DESCRIPTION:
URL:https://belleauwoodnews.com/event/food-truck-comete-alguito/
LOCATION:Belleau Woods Park\, 3750 forest green drive\, lexington\, KY\, 40517\, United States
END:VEVENT
BEGIN:VEVENT
DTSTART;TZID=America/New_York:20240622T170000
DTEND;TZID=America/New_York:20240622T190000
DTSTAMP:20260423T201601
CREATED:20240602T172846Z
LAST-MODIFIED:20240602T172846Z
UID:2171-1719075600-1719082800@belleauwoodnews.com
SUMMARY:Food Truck-Buddy Loves
DESCRIPTION:
URL:https://belleauwoodnews.com/event/food-truck-buddy-loves/
LOCATION:Belleau Woods Park\, 3750 forest green drive\, lexington\, KY\, 40517\, United States
END:VEVENT
BEGIN:VEVENT
DTSTART;TZID=America/New_York:20240621T201500
DTEND;TZID=America/New_York:20240621T213000
DTSTAMP:20260423T201601
CREATED:20240618T030908Z
LAST-MODIFIED:20240618T030908Z
UID:2175-1719000900-1719005400@belleauwoodnews.com
SUMMARY:Mr. Softee
DESCRIPTION:
URL:https://belleauwoodnews.com/event/mr-softee/
LOCATION:Belleau Woods Park\, 3750 forest green drive\, lexington\, KY\, 40517\, United States
END:VEVENT
BEGIN:VEVENT
DTSTART;TZID=America/New_York:20240615T180000
DTEND;TZID=America/New_York:20240615T200000
DTSTAMP:20260423T201601
CREATED:20240601T015358Z
LAST-MODIFIED:20240601T015358Z
UID:2161-1718474400-1718481600@belleauwoodnews.com
SUMMARY:Belleau Wood Block Party at Belleau Wood Park
DESCRIPTION:
URL:https://belleauwoodnews.com/event/belleau-wood-block-party-at-belleau-wood-park/
LOCATION:Belleau Woods Park\, 3750 forest green drive\, lexington\, KY\, 40517\, United States
END:VEVENT
BEGIN:VEVENT
DTSTART;TZID=America/New_York:20240608T090000
DTEND;TZID=America/New_York:20240608T120000
DTSTAMP:20260423T201601
CREATED:20240601T015256Z
LAST-MODIFIED:20240601T015256Z
UID:2159-1717837200-1717848000@belleauwoodnews.com
SUMMARY:Belleau Wood Neighborhood Clean-up
DESCRIPTION:
URL:https://belleauwoodnews.com/event/belleau-wood-neighborhood-clean-up/
LOCATION:Belleau Woods Park\, 3750 forest green drive\, lexington\, KY\, 40517\, United States
END:VEVENT
BEGIN:VEVENT
DTSTART;TZID=America/New_York:20240607T170000
DTEND;TZID=America/New_York:20240607T190000
DTSTAMP:20260423T201601
CREATED:20240602T172805Z
LAST-MODIFIED:20240602T172805Z
UID:2169-1717779600-1717786800@belleauwoodnews.com
SUMMARY:Food Truck-305 Cubano
DESCRIPTION:
URL:https://belleauwoodnews.com/event/food-truck-305-cubano/
LOCATION:Belleau Woods Park\, 3750 forest green drive\, lexington\, KY\, 40517\, United States
END:VEVENT
BEGIN:VEVENT
DTSTART;TZID=America/New_York:20240605T170000
DTEND;TZID=America/New_York:20240605T190000
DTSTAMP:20260423T201601
CREATED:20240602T172644Z
LAST-MODIFIED:20240602T172644Z
UID:2166-1717606800-1717614000@belleauwoodnews.com
SUMMARY:Food Truck-What's Crackin' 5-7pm
DESCRIPTION:
URL:https://belleauwoodnews.com/event/food-truck-whats-crackin-5-7pm/
LOCATION:Belleau Woods Park\, 3750 forest green drive\, lexington\, KY\, 40517\, United States
END:VEVENT
BEGIN:VEVENT
DTSTART;TZID=America/New_York:20240531T080000
DTEND;TZID=America/New_York:20240831T170000
DTSTAMP:20260423T201601
CREATED:20240601T014836Z
LAST-MODIFIED:20240601T014836Z
UID:2155-1717142400-1725123600@belleauwoodnews.com
SUMMARY:Belleau Wood Summer Slow Down!
DESCRIPTION:
URL:https://belleauwoodnews.com/event/belleau-wood-summer-slow-down/
LOCATION:Belleau Wood Neighborhood
END:VEVENT
BEGIN:VEVENT
DTSTART;TZID=America/New_York:20240531T080000
DTEND;TZID=America/New_York:20240630T170000
DTSTAMP:20260423T201601
CREATED:20240601T014947Z
LAST-MODIFIED:20240601T014947Z
UID:2157-1717142400-1719766800@belleauwoodnews.com
SUMMARY:Belleau Wood Sidewalk Clean Sweep Contest
DESCRIPTION:
URL:https://belleauwoodnews.com/event/belleau-wood-sidewalk-clean-sweep-contest/
END:VEVENT
BEGIN:VEVENT
DTSTART;TZID=America/New_York:20240525T173000
DTEND;TZID=America/New_York:20240525T190000
DTSTAMP:20260423T201601
CREATED:20240506T000814Z
LAST-MODIFIED:20240506T000814Z
UID:2146-1716658200-1716663600@belleauwoodnews.com
SUMMARY:Fizzy Fox Soda Truck
DESCRIPTION:Talk about interesting!  A new soda truck in Lexington!
URL:https://belleauwoodnews.com/event/fizzy-fox-soda-truck/
LOCATION:Belleau Woods Park\, 3750 forest green drive\, lexington\, KY\, 40517\, United States
END:VEVENT
BEGIN:VEVENT
DTSTART;TZID=America/New_York:20240524T170000
DTEND;TZID=America/New_York:20240524T190000
DTSTAMP:20260423T201601
CREATED:20240429T010600Z
LAST-MODIFIED:20240429T010600Z
UID:2080-1716570000-1716577200@belleauwoodnews.com
SUMMARY:Friday Food Truck-Matt's Hot Dog Stand
DESCRIPTION:More than just hot dogs!  Great food!
URL:https://belleauwoodnews.com/event/friday-food-truck-matts-hot-dog-stand/
LOCATION:Belleau Woods Park\, 3750 forest green drive\, lexington\, KY\, 40517\, United States
END:VEVENT
BEGIN:VEVENT
DTSTART;TZID=America/New_York:20240518T170000
DTEND;TZID=America/New_York:20240518T190000
DTSTAMP:20260423T201601
CREATED:20240429T005808Z
LAST-MODIFIED:20240429T005808Z
UID:2077-1716051600-1716058800@belleauwoodnews.com
SUMMARY:Saturday Food Truck-What's Crackin'
DESCRIPTION:A new food truck to Belleau Wood!
URL:https://belleauwoodnews.com/event/saturday-food-truck-whats-crackin/
LOCATION:Belleau Woods Park\, 3750 forest green drive\, lexington\, KY\, 40517\, United States
END:VEVENT
END:VCALENDAR