BEGIN:VCALENDAR
VERSION:2.0
PRODID:-//Belleau Wood News - ECPv6.15.20//NONSGML v1.0//EN
CALSCALE:GREGORIAN
METHOD:PUBLISH
X-WR-CALNAME:Belleau Wood News
X-ORIGINAL-URL:https://belleauwoodnews.com
X-WR-CALDESC:Events for Belleau Wood News
REFRESH-INTERVAL;VALUE=DURATION:PT1H
X-Robots-Tag:noindex
X-PUBLISHED-TTL:PT1H
BEGIN:VTIMEZONE
TZID:America/New_York
BEGIN:DAYLIGHT
TZOFFSETFROM:-0500
TZOFFSETTO:-0400
TZNAME:EDT
DTSTART:20240310T070000
END:DAYLIGHT
BEGIN:STANDARD
TZOFFSETFROM:-0400
TZOFFSETTO:-0500
TZNAME:EST
DTSTART:20241103T060000
END:STANDARD
BEGIN:DAYLIGHT
TZOFFSETFROM:-0500
TZOFFSETTO:-0400
TZNAME:EDT
DTSTART:20250309T070000
END:DAYLIGHT
BEGIN:STANDARD
TZOFFSETFROM:-0400
TZOFFSETTO:-0500
TZNAME:EST
DTSTART:20251102T060000
END:STANDARD
BEGIN:DAYLIGHT
TZOFFSETFROM:-0500
TZOFFSETTO:-0400
TZNAME:EDT
DTSTART:20260308T070000
END:DAYLIGHT
BEGIN:STANDARD
TZOFFSETFROM:-0400
TZOFFSETTO:-0500
TZNAME:EST
DTSTART:20261101T060000
END:STANDARD
END:VTIMEZONE
BEGIN:VEVENT
DTSTART;TZID=America/New_York:20250606T180000
DTEND;TZID=America/New_York:20250606T200000
DTSTAMP:20260424T063527
CREATED:20250428T021226Z
LAST-MODIFIED:20250428T021226Z
UID:2402-1749232800-1749240000@belleauwoodnews.com
SUMMARY:Belleau Wood Ice Cream Social with Mr. Softee Ice Cream Truck
DESCRIPTION:Come down to the park and enjoy some great ice cream from the Mr. Softee Truck! \nBring a chair and enjoy meeting your neighbors \nThis event is always a neighborhood favorite!
URL:https://belleauwoodnews.com/event/belleau-wood-ice-cream-social-with-mr-softee-ice-cream-truck/
LOCATION:Belleau Woods Park\, 3750 forest green drive\, lexington\, KY\, 40517\, United States
END:VEVENT
END:VCALENDAR