BEGIN:VCALENDAR
VERSION:2.0
PRODID:-//Belleau Wood News - ECPv6.15.20//NONSGML v1.0//EN
CALSCALE:GREGORIAN
METHOD:PUBLISH
X-WR-CALNAME:Belleau Wood News
X-ORIGINAL-URL:https://belleauwoodnews.com
X-WR-CALDESC:Events for Belleau Wood News
REFRESH-INTERVAL;VALUE=DURATION:PT1H
X-Robots-Tag:noindex
X-PUBLISHED-TTL:PT1H
BEGIN:VTIMEZONE
TZID:America/New_York
BEGIN:DAYLIGHT
TZOFFSETFROM:-0500
TZOFFSETTO:-0400
TZNAME:EDT
DTSTART:20230312T070000
END:DAYLIGHT
BEGIN:STANDARD
TZOFFSETFROM:-0400
TZOFFSETTO:-0500
TZNAME:EST
DTSTART:20231105T060000
END:STANDARD
BEGIN:DAYLIGHT
TZOFFSETFROM:-0500
TZOFFSETTO:-0400
TZNAME:EDT
DTSTART:20240310T070000
END:DAYLIGHT
BEGIN:STANDARD
TZOFFSETFROM:-0400
TZOFFSETTO:-0500
TZNAME:EST
DTSTART:20241103T060000
END:STANDARD
BEGIN:DAYLIGHT
TZOFFSETFROM:-0500
TZOFFSETTO:-0400
TZNAME:EDT
DTSTART:20250309T070000
END:DAYLIGHT
BEGIN:STANDARD
TZOFFSETFROM:-0400
TZOFFSETTO:-0500
TZNAME:EST
DTSTART:20251102T060000
END:STANDARD
END:VTIMEZONE
BEGIN:VEVENT
DTSTART;TZID=America/New_York:20240531T080000
DTEND;TZID=America/New_York:20240831T170000
DTSTAMP:20260424T221924
CREATED:20240601T014836Z
LAST-MODIFIED:20240601T014836Z
UID:2155-1717142400-1725123600@belleauwoodnews.com
SUMMARY:Belleau Wood Summer Slow Down!
DESCRIPTION:
URL:https://belleauwoodnews.com/event/belleau-wood-summer-slow-down/
LOCATION:Belleau Wood Neighborhood
END:VEVENT
BEGIN:VEVENT
DTSTART;TZID=America/New_York:20240823T190000
DTEND;TZID=America/New_York:20240823T203000
DTSTAMP:20260424T221924
CREATED:20240708T020039Z
LAST-MODIFIED:20240816T030105Z
UID:2195-1724439600-1724445000@belleauwoodnews.com
SUMMARY:Belleau Wood End of Summer Ice Cream Social with Mr. Softee-Friday
DESCRIPTION:This is the last Belleau Wood food truck of the year.  Come out and let’s have a good ole fashion Ice Cream Social! \nBring a chair \nGet some great ice cream from Mr. Softee \nHope to see you there!
URL:https://belleauwoodnews.com/event/mr-softee-friday-2/
LOCATION:Belleau Woods Park\, 3750 forest green drive\, lexington\, KY\, 40517\, United States
END:VEVENT
END:VCALENDAR